BEGIN:VCALENDAR
VERSION:2.0
PRODID:-//Ernst - ECPv6.15.20//NONSGML v1.0//EN
CALSCALE:GREGORIAN
METHOD:PUBLISH
X-WR-CALNAME:Ernst
X-ORIGINAL-URL:https://ernst-mosel.de
X-WR-CALDESC:Veranstaltungen für Ernst
REFRESH-INTERVAL;VALUE=DURATION:PT1H
X-Robots-Tag:noindex
X-PUBLISHED-TTL:PT1H
BEGIN:VTIMEZONE
TZID:Europe/Berlin
BEGIN:DAYLIGHT
TZOFFSETFROM:+0100
TZOFFSETTO:+0200
TZNAME:CEST
DTSTART:20250330T010000
END:DAYLIGHT
BEGIN:STANDARD
TZOFFSETFROM:+0200
TZOFFSETTO:+0100
TZNAME:CET
DTSTART:20251026T010000
END:STANDARD
BEGIN:DAYLIGHT
TZOFFSETFROM:+0100
TZOFFSETTO:+0200
TZNAME:CEST
DTSTART:20260329T010000
END:DAYLIGHT
BEGIN:STANDARD
TZOFFSETFROM:+0200
TZOFFSETTO:+0100
TZNAME:CET
DTSTART:20261025T010000
END:STANDARD
BEGIN:DAYLIGHT
TZOFFSETFROM:+0100
TZOFFSETTO:+0200
TZNAME:CEST
DTSTART:20270328T010000
END:DAYLIGHT
BEGIN:STANDARD
TZOFFSETFROM:+0200
TZOFFSETTO:+0100
TZNAME:CET
DTSTART:20271031T010000
END:STANDARD
END:VTIMEZONE
BEGIN:VEVENT
DTSTART;VALUE=DATE:20260801
DTEND;VALUE=DATE:20260804
DTSTAMP:20260425T061038
CREATED:20260224T225516Z
LAST-MODIFIED:20260224T225516Z
UID:2367-1785542400-1785801599@ernst-mosel.de
SUMMARY:Ernster Kirmes
DESCRIPTION:Nähere Informationen folgen…
URL:https://ernst-mosel.de/event/ernster-kirmes/
LOCATION:Dorfplatz\, Weingartenstraße 66\, Ernst\, Rheinland-Pfalz\, 56814\, Germany
END:VEVENT
BEGIN:VEVENT
DTSTART;TZID=Europe/Berlin:20260806T000000
DTEND;TZID=Europe/Berlin:20260806T000000
DTSTAMP:20260425T061038
CREATED:20260318T220618Z
LAST-MODIFIED:20260318T220642Z
UID:2532-1785974400-1785974400@ernst-mosel.de
SUMMARY:WanderWeinProbe mit den Ernster Winzern
DESCRIPTION:Nähere Informationen folgen…
URL:https://ernst-mosel.de/event/wanderweinprobe-mit-den-ernster-winzern-copy-copy-copy-copy-copy/
LOCATION:Ernster Weinberge\, Ernst\, 56814
END:VEVENT
BEGIN:VEVENT
DTSTART;TZID=Europe/Berlin:20260807T180000
DTEND;TZID=Europe/Berlin:20260807T180000
DTSTAMP:20260425T061038
CREATED:20260224T224254Z
LAST-MODIFIED:20260224T232417Z
UID:2356-1786125600-1786125600@ernst-mosel.de
SUMMARY:Musikalisches Sommernachts-Picknick am Moselufer
DESCRIPTION:Genießen Sie ein paar schöne Stunden bei einem abendlichen Picknick an unserem schönen Moselufer. In dieser malerischen Kulisse kommen Live-Musik und unsere Ernster Weine besonders zur Geltung. Wer möchte\, kann sich einen liebevoll gepackten Picknick-Korb vorbestellen. \nDer Link für die Vorbestellungen wird rechtzeitig vor der Veranstaltung hier veröffentlicht.
URL:https://ernst-mosel.de/event/musikalisches-sommernachts-picknick-am-moselufer/
LOCATION:Moselufer unterhalb der Kirche\, Moselstraße 46\, Ernst\, 56814
END:VEVENT
BEGIN:VEVENT
DTSTART;TZID=Europe/Berlin:20260813T000000
DTEND;TZID=Europe/Berlin:20260813T000000
DTSTAMP:20260425T061038
CREATED:20260318T220658Z
LAST-MODIFIED:20260318T220714Z
UID:2534-1786579200-1786579200@ernst-mosel.de
SUMMARY:WanderWeinProbe mit den Ernster Winzern
DESCRIPTION:Nähere Informationen folgen…
URL:https://ernst-mosel.de/event/wanderweinprobe-mit-den-ernster-winzern-copy-copy-copy-copy-copy-copy/
LOCATION:Ernster Weinberge\, Ernst\, 56814
END:VEVENT
BEGIN:VEVENT
DTSTART;TZID=Europe/Berlin:20260814T180000
DTEND;TZID=Europe/Berlin:20260814T180000
DTSTAMP:20260425T061038
CREATED:20260224T225650Z
LAST-MODIFIED:20260224T225724Z
UID:2369-1786730400-1786730400@ernst-mosel.de
SUMMARY:Musikalisches Sommernachts-Picknick am Moselufer
DESCRIPTION:Genießen Sie ein paar schöne Stunden bei einem abendlichen Picknick an unserem schönen Moselufer. In dieser malerischen Kulisse kommen Live-Musik und unsere Ernster Weine besonders zur Geltung. Wer möchte\, kann sich einen liebevoll gepackten Picknick-Korb vorbestellen. \nDer Link für die Vorbestellungen wird rechtzeitig vor der Veranstaltung hier veröffentlicht.
URL:https://ernst-mosel.de/event/musikalisches-sommernachts-picknick-am-moselufer-3/
LOCATION:Moselufer unterhalb der Kirche\, Moselstraße 46\, Ernst\, 56814
END:VEVENT
BEGIN:VEVENT
DTSTART;TZID=Europe/Berlin:20260820T000000
DTEND;TZID=Europe/Berlin:20260820T000000
DTSTAMP:20260425T061038
CREATED:20260318T220728Z
LAST-MODIFIED:20260318T220741Z
UID:2536-1787184000-1787184000@ernst-mosel.de
SUMMARY:WanderWeinProbe mit den Ernster Winzern
DESCRIPTION:Nähere Informationen folgen…
URL:https://ernst-mosel.de/event/wanderweinprobe-mit-den-ernster-winzern-copy-copy-copy-copy-copy-copy-copy/
LOCATION:Ernster Weinberge\, Ernst\, 56814
END:VEVENT
BEGIN:VEVENT
DTSTART;VALUE=DATE:20260821
DTEND;VALUE=DATE:20260824
DTSTAMP:20260425T061038
CREATED:20251205T124430Z
LAST-MODIFIED:20251205T124750Z
UID:2279-1787270400-1787529599@ernst-mosel.de
SUMMARY:Weinfestival 2026
DESCRIPTION:Weinfestival Ernst vom 21. bis 23. August 2026 \nFeiern und genießen unter freiem Himmel mit weinverrückten Menschen und jeder Menge guten Laune\, Live-Musik\, Theater\, Show: Das alles zeichnet das Ernster Weinfestival aus. Vom 21. bis 23. August heißt es rund um den Festplatz an der Mosel wieder tanzen\, chillen\, lachen und genießen. \nProgramm folgt!
URL:https://ernst-mosel.de/event/weinfestival-copy/
LOCATION:Festplatz\, Moselstraße 31\, Ernst\, Rheinland-Pfalz\, 56814\, Germany
END:VEVENT
BEGIN:VEVENT
DTSTART;TZID=Europe/Berlin:20260827T000000
DTEND;TZID=Europe/Berlin:20260827T000000
DTSTAMP:20260425T061038
CREATED:20260318T220754Z
LAST-MODIFIED:20260318T220808Z
UID:2538-1787788800-1787788800@ernst-mosel.de
SUMMARY:WanderWeinProbe mit den Ernster Winzern
DESCRIPTION:Nähere Informationen folgen…
URL:https://ernst-mosel.de/event/wanderweinprobe-mit-den-ernster-winzern-copy-copy-copy-copy-copy-copy-copy-copy/
LOCATION:Ernster Weinberge\, Ernst\, 56814
END:VEVENT
END:VCALENDAR