BEGIN:VCALENDAR
VERSION:2.0
PRODID:-//Ernst - ECPv6.15.20//NONSGML v1.0//EN
CALSCALE:GREGORIAN
METHOD:PUBLISH
X-WR-CALNAME:Ernst
X-ORIGINAL-URL:https://ernst-mosel.de
X-WR-CALDESC:Veranstaltungen für Ernst
REFRESH-INTERVAL;VALUE=DURATION:PT1H
X-Robots-Tag:noindex
X-PUBLISHED-TTL:PT1H
BEGIN:VTIMEZONE
TZID:Europe/Berlin
BEGIN:DAYLIGHT
TZOFFSETFROM:+0100
TZOFFSETTO:+0200
TZNAME:CEST
DTSTART:20250330T010000
END:DAYLIGHT
BEGIN:STANDARD
TZOFFSETFROM:+0200
TZOFFSETTO:+0100
TZNAME:CET
DTSTART:20251026T010000
END:STANDARD
BEGIN:DAYLIGHT
TZOFFSETFROM:+0100
TZOFFSETTO:+0200
TZNAME:CEST
DTSTART:20260329T010000
END:DAYLIGHT
BEGIN:STANDARD
TZOFFSETFROM:+0200
TZOFFSETTO:+0100
TZNAME:CET
DTSTART:20261025T010000
END:STANDARD
BEGIN:DAYLIGHT
TZOFFSETFROM:+0100
TZOFFSETTO:+0200
TZNAME:CEST
DTSTART:20270328T010000
END:DAYLIGHT
BEGIN:STANDARD
TZOFFSETFROM:+0200
TZOFFSETTO:+0100
TZNAME:CET
DTSTART:20271031T010000
END:STANDARD
END:VTIMEZONE
BEGIN:VEVENT
DTSTART;TZID=Europe/Berlin:20260702T000000
DTEND;TZID=Europe/Berlin:20260702T000000
DTSTAMP:20260425T045026
CREATED:20260318T220134Z
LAST-MODIFIED:20260318T220134Z
UID:2519-1782950400-1782950400@ernst-mosel.de
SUMMARY:WanderWeinProbe mit den Ernster Winzern
DESCRIPTION:Nähere Informationen folgen…
URL:https://ernst-mosel.de/event/wanderweinprobe-mit-den-ernster-winzern/
LOCATION:Ernster Weinberge\, Ernst\, 56814
END:VEVENT
BEGIN:VEVENT
DTSTART;TZID=Europe/Berlin:20260709T000000
DTEND;TZID=Europe/Berlin:20260709T000000
DTSTAMP:20260425T045026
CREATED:20260318T220214Z
LAST-MODIFIED:20260318T220423Z
UID:2522-1783555200-1783555200@ernst-mosel.de
SUMMARY:WanderWeinProbe mit den Ernster Winzern
DESCRIPTION:Nähere Informationen folgen…
URL:https://ernst-mosel.de/event/wanderweinprobe-mit-den-ernster-winzern-copy/
LOCATION:Ernster Weinberge\, Ernst\, 56814
END:VEVENT
BEGIN:VEVENT
DTSTART;TZID=Europe/Berlin:20260710T180000
DTEND;TZID=Europe/Berlin:20260710T180000
DTSTAMP:20260425T045026
CREATED:20260224T224424Z
LAST-MODIFIED:20260224T232451Z
UID:2358-1783706400-1783706400@ernst-mosel.de
SUMMARY:Musikalisches Sommernachts-Picknick am Moselufer
DESCRIPTION:Genießen Sie ein paar schöne Stunden bei einem abendlichen Picknick an unserem schönen Moselufer. In dieser malerischen Kulisse kommen Live-Musik und unsere Ernster Weine besonders zur Geltung. Wer möchte\, kann sich einen liebevoll gepackten Picknick-Korb vorbestellen. \nDer Link für die Vorbestellungen wird rechtzeitig vor der Veranstaltung hier veröffentlicht.
URL:https://ernst-mosel.de/event/musikalisches-sommernachts-picknick-am-moselufer-2/
LOCATION:Moselufer unterhalb der Kirche\, Moselstraße 46\, Ernst\, 56814
END:VEVENT
BEGIN:VEVENT
DTSTART;TZID=Europe/Berlin:20260716T000000
DTEND;TZID=Europe/Berlin:20260716T000000
DTSTAMP:20260425T045026
CREATED:20260318T220335Z
LAST-MODIFIED:20260318T220401Z
UID:2524-1784160000-1784160000@ernst-mosel.de
SUMMARY:WanderWeinProbe mit den Ernster Winzern
DESCRIPTION:Nähere Informationen folgen…
URL:https://ernst-mosel.de/event/wanderweinprobe-mit-den-ernster-winzern-copy-copy/
LOCATION:Ernster Weinberge\, Ernst\, 56814
END:VEVENT
BEGIN:VEVENT
DTSTART;TZID=Europe/Berlin:20260723T000000
DTEND;TZID=Europe/Berlin:20260723T000000
DTSTAMP:20260425T045026
CREATED:20260318T220453Z
LAST-MODIFIED:20260318T220507Z
UID:2528-1784764800-1784764800@ernst-mosel.de
SUMMARY:WanderWeinProbe mit den Ernster Winzern
DESCRIPTION:Nähere Informationen folgen…
URL:https://ernst-mosel.de/event/wanderweinprobe-mit-den-ernster-winzern-copy-copy-copy/
LOCATION:Ernster Weinberge\, Ernst\, 56814
END:VEVENT
BEGIN:VEVENT
DTSTART;VALUE=DATE:20260724
DTEND;VALUE=DATE:20260727
DTSTAMP:20260425T045026
CREATED:20260224T225043Z
LAST-MODIFIED:20260224T231400Z
UID:2364-1784851200-1785110399@ernst-mosel.de
SUMMARY:Sommerfest
DESCRIPTION:Nähere Informationen folgen…
URL:https://ernst-mosel.de/event/sommerfest/
LOCATION:Pfarrkirche\, Moselstraße 48\, Ernst\, Rheinland-Pfalz\, 56814\, Germany
END:VEVENT
BEGIN:VEVENT
DTSTART;TZID=Europe/Berlin:20260730T000000
DTEND;TZID=Europe/Berlin:20260730T000000
DTSTAMP:20260425T045026
CREATED:20260318T220528Z
LAST-MODIFIED:20260318T220542Z
UID:2530-1785369600-1785369600@ernst-mosel.de
SUMMARY:WanderWeinProbe mit den Ernster Winzern
DESCRIPTION:Nähere Informationen folgen…
URL:https://ernst-mosel.de/event/wanderweinprobe-mit-den-ernster-winzern-copy-copy-copy-copy/
LOCATION:Ernster Weinberge\, Ernst\, 56814
END:VEVENT
END:VCALENDAR