BEGIN:VCALENDAR
VERSION:2.0
PRODID:-//Ernst - ECPv6.15.20//NONSGML v1.0//EN
CALSCALE:GREGORIAN
METHOD:PUBLISH
X-WR-CALNAME:Ernst
X-ORIGINAL-URL:https://ernst-mosel.de
X-WR-CALDESC:Veranstaltungen für Ernst
REFRESH-INTERVAL;VALUE=DURATION:PT1H
X-Robots-Tag:noindex
X-PUBLISHED-TTL:PT1H
BEGIN:VTIMEZONE
TZID:Europe/Berlin
BEGIN:DAYLIGHT
TZOFFSETFROM:+0100
TZOFFSETTO:+0200
TZNAME:CEST
DTSTART:20250330T010000
END:DAYLIGHT
BEGIN:STANDARD
TZOFFSETFROM:+0200
TZOFFSETTO:+0100
TZNAME:CET
DTSTART:20251026T010000
END:STANDARD
BEGIN:DAYLIGHT
TZOFFSETFROM:+0100
TZOFFSETTO:+0200
TZNAME:CEST
DTSTART:20260329T010000
END:DAYLIGHT
BEGIN:STANDARD
TZOFFSETFROM:+0200
TZOFFSETTO:+0100
TZNAME:CET
DTSTART:20261025T010000
END:STANDARD
BEGIN:DAYLIGHT
TZOFFSETFROM:+0100
TZOFFSETTO:+0200
TZNAME:CEST
DTSTART:20270328T010000
END:DAYLIGHT
BEGIN:STANDARD
TZOFFSETFROM:+0200
TZOFFSETTO:+0100
TZNAME:CET
DTSTART:20271031T010000
END:STANDARD
END:VTIMEZONE
BEGIN:VEVENT
DTSTART;TZID=Europe/Berlin:20260509T100000
DTEND;TZID=Europe/Berlin:20260509T170000
DTSTAMP:20260425T013730
CREATED:20260404T142345Z
LAST-MODIFIED:20260404T142345Z
UID:2581-1778320800-1778346000@ernst-mosel.de
SUMMARY:4. Ernscher Dorf- und Garagenflohmarkt
DESCRIPTION:
URL:https://ernst-mosel.de/event/4-ernscher-dorf-und-garagenflohmarkt/
LOCATION:Ernst\, Ernst\, 56814
ORGANIZER;CN="Kulturausschuss des HVV Ernst e. V.":MAILTO:kulturausschuss@ernst-mosel.de
END:VEVENT
BEGIN:VEVENT
DTSTART;TZID=Europe/Berlin:20260531T120000
DTEND;TZID=Europe/Berlin:20260531T180000
DTSTAMP:20260425T013730
CREATED:20260318T213007Z
LAST-MODIFIED:20260318T213214Z
UID:2514-1780228800-1780250400@ernst-mosel.de
SUMMARY:1. Ernster Kinderfest
DESCRIPTION:Nähere Informationen folgen…
URL:https://ernst-mosel.de/event/1-ernster-kinderfest/
LOCATION:Alter Schulhof\, Auf der Winneburg\, Moselstraße 46\, Auf der Winneburg\, Ernst\, 56814
ORGANIZER;CN="Kulturausschuss des HVV Ernst e. V.":MAILTO:kulturausschuss@ernst-mosel.de
END:VEVENT
END:VCALENDAR