BEGIN:VCALENDAR
VERSION:2.0
PRODID:-//Ernst - ECPv6.15.20//NONSGML v1.0//EN
CALSCALE:GREGORIAN
METHOD:PUBLISH
X-ORIGINAL-URL:https://ernst-mosel.de
X-WR-CALDESC:Veranstaltungen für Ernst
REFRESH-INTERVAL;VALUE=DURATION:PT1H
X-Robots-Tag:noindex
X-PUBLISHED-TTL:PT1H
BEGIN:VTIMEZONE
TZID:Europe/Berlin
BEGIN:DAYLIGHT
TZOFFSETFROM:+0100
TZOFFSETTO:+0200
TZNAME:CEST
DTSTART:20240331T010000
END:DAYLIGHT
BEGIN:STANDARD
TZOFFSETFROM:+0200
TZOFFSETTO:+0100
TZNAME:CET
DTSTART:20241027T010000
END:STANDARD
BEGIN:DAYLIGHT
TZOFFSETFROM:+0100
TZOFFSETTO:+0200
TZNAME:CEST
DTSTART:20250330T010000
END:DAYLIGHT
BEGIN:STANDARD
TZOFFSETFROM:+0200
TZOFFSETTO:+0100
TZNAME:CET
DTSTART:20251026T010000
END:STANDARD
BEGIN:DAYLIGHT
TZOFFSETFROM:+0100
TZOFFSETTO:+0200
TZNAME:CEST
DTSTART:20260329T010000
END:DAYLIGHT
BEGIN:STANDARD
TZOFFSETFROM:+0200
TZOFFSETTO:+0100
TZNAME:CET
DTSTART:20261025T010000
END:STANDARD
BEGIN:DAYLIGHT
TZOFFSETFROM:+0100
TZOFFSETTO:+0200
TZNAME:CEST
DTSTART:20270328T010000
END:DAYLIGHT
BEGIN:STANDARD
TZOFFSETFROM:+0200
TZOFFSETTO:+0100
TZNAME:CET
DTSTART:20271031T010000
END:STANDARD
END:VTIMEZONE
BEGIN:VEVENT
DTSTART;TZID=Europe/Berlin:20260405T110000
DTEND;TZID=Europe/Berlin:20260405T140000
DTSTAMP:20260425T030158
CREATED:20260224T221022Z
LAST-MODIFIED:20260404T121953Z
UID:2348-1775386800-1775397600@ernst-mosel.de
SUMMARY:Musikalischer Oster-Frühschoppen
DESCRIPTION:
URL:https://ernst-mosel.de/event/musikalischer-oster-fruehschoppen/
LOCATION:Festplatz\, Moselstraße 31\, Ernst\, Rheinland-Pfalz\, 56814\, Germany
ATTACH;FMTTYPE=image/jpeg:https://ernst-mosel.de/wp-content/uploads/2026/02/IMG-20260324-WA0004.jpg
ORGANIZER;CN="HVV Ernst e. V.":MAILTO:hvv@ernst-mosel.de
END:VEVENT
BEGIN:VEVENT
DTSTART;VALUE=DATE:20260327
DTEND;VALUE=DATE:20260330
DTSTAMP:20260425T030158
CREATED:20260224T220736Z
LAST-MODIFIED:20260224T232641Z
UID:2341-1774569600-1774828799@ernst-mosel.de
SUMMARY:Weinbergsblüten-Arrangement
DESCRIPTION:Arrangements
URL:https://ernst-mosel.de/event/weinbergsblueten-arrangement/
ORGANIZER;CN="HVV Ernst e. V.":MAILTO:hvv@ernst-mosel.de
END:VEVENT
BEGIN:VEVENT
DTSTART;TZID=Europe/Berlin:20261213T170000
DTEND;TZID=Europe/Berlin:20261213T170000
DTSTAMP:20260425T030158
CREATED:20250806T163241Z
LAST-MODIFIED:20260224T231105Z
UID:1445-1797181200-1797181200@ernst-mosel.de
SUMMARY:Adventssingen
DESCRIPTION:Die Chöre Fillamonika und Animo singen auf den Straßen von Ernst. \nStart um 17:00 Uhr in Oberernst „auf der Petz“; anschließend in Niederernst auf der Kreuzung Weingartenstraße/Klosterstraße.
URL:https://ernst-mosel.de/event/benefiz-adventsingen/
END:VEVENT
BEGIN:VEVENT
DTSTART;VALUE=DATE:20251206
DTEND;VALUE=DATE:20251207
DTSTAMP:20260425T030158
CREATED:20250806T162725Z
LAST-MODIFIED:20250806T162725Z
UID:1440-1764979200-1765065599@ernst-mosel.de
SUMMARY:Nikolaus Konzert "AWEN"
DESCRIPTION:
URL:https://ernst-mosel.de/event/nikolaus-konzert-awen/
LOCATION:Pfarrkirche\, Moselstraße 48\, Ernst\, Rheinland-Pfalz\, 56814\, Germany
END:VEVENT
BEGIN:VEVENT
DTSTART;TZID=Europe/Berlin:20261128T180000
DTEND;TZID=Europe/Berlin:20261128T180000
DTSTAMP:20260425T030158
CREATED:20250806T162941Z
LAST-MODIFIED:20260224T230827Z
UID:1443-1795888800-1795888800@ernst-mosel.de
SUMMARY:Dorf-Leuchten "Anknipsen"
DESCRIPTION:Treffen unterhalb der Kirche. Es folgt ein Rundgang durch das Dorf mit Abschluss auf der Glühwein-Party im Weingut Göbel-Schleyer-Erben.
URL:https://ernst-mosel.de/event/dorf-leuchten-anknipsen/
LOCATION:Pfarrkirche\, Moselstraße 48\, Ernst\, Rheinland-Pfalz\, 56814\, Germany
END:VEVENT
END:VCALENDAR