BEGIN:VCALENDAR
VERSION:2.0
PRODID:-//Ernst - ECPv6.15.20//NONSGML v1.0//EN
CALSCALE:GREGORIAN
METHOD:PUBLISH
X-ORIGINAL-URL:https://ernst-mosel.de
X-WR-CALDESC:Veranstaltungen für Ernst
REFRESH-INTERVAL;VALUE=DURATION:PT1H
X-Robots-Tag:noindex
X-PUBLISHED-TTL:PT1H
BEGIN:VTIMEZONE
TZID:Europe/Berlin
BEGIN:DAYLIGHT
TZOFFSETFROM:+0100
TZOFFSETTO:+0200
TZNAME:CEST
DTSTART:20250330T010000
END:DAYLIGHT
BEGIN:STANDARD
TZOFFSETFROM:+0200
TZOFFSETTO:+0100
TZNAME:CET
DTSTART:20251026T010000
END:STANDARD
BEGIN:DAYLIGHT
TZOFFSETFROM:+0100
TZOFFSETTO:+0200
TZNAME:CEST
DTSTART:20260329T010000
END:DAYLIGHT
BEGIN:STANDARD
TZOFFSETFROM:+0200
TZOFFSETTO:+0100
TZNAME:CET
DTSTART:20261025T010000
END:STANDARD
BEGIN:DAYLIGHT
TZOFFSETFROM:+0100
TZOFFSETTO:+0200
TZNAME:CEST
DTSTART:20270328T010000
END:DAYLIGHT
BEGIN:STANDARD
TZOFFSETFROM:+0200
TZOFFSETTO:+0100
TZNAME:CET
DTSTART:20271031T010000
END:STANDARD
END:VTIMEZONE
BEGIN:VEVENT
DTSTART;TZID=Europe/Berlin:20260405T110000
DTEND;TZID=Europe/Berlin:20260405T140000
DTSTAMP:20260425T030113
CREATED:20260224T221022Z
LAST-MODIFIED:20260404T121953Z
UID:2348-1775386800-1775397600@ernst-mosel.de
SUMMARY:Musikalischer Oster-Frühschoppen
DESCRIPTION:
URL:https://ernst-mosel.de/event/musikalischer-oster-fruehschoppen/
LOCATION:Festplatz\, Moselstraße 31\, Ernst\, Rheinland-Pfalz\, 56814\, Germany
ATTACH;FMTTYPE=image/jpeg:https://ernst-mosel.de/wp-content/uploads/2026/02/IMG-20260324-WA0004.jpg
ORGANIZER;CN="HVV Ernst e. V.":MAILTO:hvv@ernst-mosel.de
END:VEVENT
END:VCALENDAR